BEGIN:VCALENDAR
VERSION:2.0
PRODID:-//Thai TARA - ECPv6.2.9//NONSGML v1.0//EN
CALSCALE:GREGORIAN
METHOD:PUBLISH
X-WR-CALNAME:Thai TARA
X-ORIGINAL-URL:https://thaitara.org/en
X-WR-CALDESC:Events for Thai TARA
REFRESH-INTERVAL;VALUE=DURATION:PT1H
X-Robots-Tag:noindex
X-PUBLISHED-TTL:PT1H
BEGIN:VTIMEZONE
TZID:Asia/Bangkok
BEGIN:STANDARD
TZOFFSETFROM:+0700
TZOFFSETTO:+0700
TZNAME:+07
DTSTART:20230101T000000
END:STANDARD
END:VTIMEZONE
BEGIN:VEVENT
DTSTART;TZID=Asia/Bangkok:20260327T133000
DTEND;TZID=Asia/Bangkok:20260327T210000
DTSTAMP:20260424T065208
CREATED:20260319T102631Z
LAST-MODIFIED:20260319T102631Z
UID:10000082-1774618200-1774645200@thaitara.org
SUMMARY:
DESCRIPTION:ขอเชิญสมาชิกทุกท่าน เข้าร่วมประชุมใหญ่สามัญครั้งที่ 1/2569 ในวันศุกร์ที่ 27 มีนาคม 2569 ณ The Banquet Hall at Nathong ตั้งแต่เวลา 13:30 น. จากนั้นจะเป็นงานเลี้ยงสังสรรค์ในช่วงค่ำ เริ่ม 18:00 น. สถานที่เดียวกัน
URL:https://thaitara.org/en/event/7193/
LOCATION:Nathong\, Thailand
CATEGORIES:Event-Announcement
ATTACH;FMTTYPE=image/png:https://thaitara.org/wp-content/uploads/2026/03/POSTER-02-scaled.png
END:VEVENT
BEGIN:VEVENT
DTSTART;VALUE=DATE:20260327
DTEND;VALUE=DATE:20260328
DTSTAMP:20260424T065208
CREATED:20260307T162325Z
LAST-MODIFIED:20260307T162325Z
UID:10000079-1774569600-1774655999@thaitara.org
SUMMARY:AGM 2026 & PARTY NIGHT
DESCRIPTION:📢 ขอเชิญสมาชิกเข้าร่วมงาน TARA Annual General Meeting & Election 2026 \nอีกหนึ่งวาระสำคัญของสมาคม\nการเลือกตั้งนายกสมาคมและคณะกรรมการชุดใหม่ \nขอเชิญ สมาชิกสามัญทุกท่านร่วมใช้สิทธิ์เลือกตั้ง\nเพื่อร่วมกำหนดทิศทางและอนาคตของสมาคม TARA \nหากท่านไม่สะดวกเข้าร่วมงานในวันดังกล่าว\nสามารถใช้สิทธิ์เลือกตั้งล่วงหน้าได้ \nภายในงานยังมี\n▪️ รายงานผลการดำเนินงานประจำปีของสมาคม\n▪️ วาระการเลือกตั้งคณะกรรมการชุดใหม่\n▪️ ร่วมลุ้นและร่วมต้อนรับ นายกสมาคมคนใหม่ \n📅 27 มีนาคม 2569\n⏰ 13.00 – 16.45 น.\n📍 The Banquet Hall at Nathong \n✨ ขอเชิญสมาชิกมาร่วมเป็นส่วนหนึ่งของก้าวใหม่ของ TARA \nหลังจากนั้น เชิญร่วมงานเลี้ยงสังสรรค์ในเวลา 18:00 น. สถานที่เดียวกันค่ะ
URL:https://thaitara.org/en/event/agm-2026-party-night/
LOCATION:The Banquet Hall at Nathong\, รัชดา 18\, ฺBangkok\, Thailand
CATEGORIES:Event-Announcement
ATTACH;FMTTYPE=image/png:https://thaitara.org/wp-content/uploads/2026/03/poster-scaled-e1772900351100.png
END:VEVENT
BEGIN:VEVENT
DTSTART;TZID=Asia/Bangkok:20250217T080000
DTEND;TZID=Asia/Bangkok:20250411T170000
DTSTAMP:20260424T065208
CREATED:20250326T041751Z
LAST-MODIFIED:20250326T051326Z
UID:10000075-1739779200-1744390800@thaitara.org
SUMMARY:Funding Project Deadline Expansion
DESCRIPTION:สมาคมผู้ประกอบการระบบอัตโนมัติและหุ่นยนต์ไทย ร่วมกับ กองส่งเสริมและประสานเพื่อประโยชน์ทางวิทยาศาสตร์ วิจัย และ นวัตกรรม สำนักงานปลัดกระทรวงการอุดมศึกษา วิทยาศาสตร์ วิจัยและนวัตกรรม \nเปิดรับข้อเสนอโครงการ คัดเลือกผู้ประกอบการภาคเอกชนไทยที่ต้องการพัฒนาเทคโนโลยีระบบอัตโนมัติ/สมาร์ทเทคโนโลยี กรอบงานคิดค้นออกแบบและพัฒนาระบบอัตโนมัติ/สมาร์ทเทคโนโลยีสู่เชิงพาณิชย์ที่มีราคา คุณภาพ และประสิทธิภาพการทำงานที่เทียบเท่าหรือสูงกว่าเทคโนโลยีจากต่างประเทศ รวมถึงยังเป็นการช่วยยกระดับคุณภาพชีวิตความเป็นอยู่ของคนไทยทั้งผู้สูงวัย ผู้ป่วย และผู้ทุพพลภาพ เป็นต้น ให้ดีขึ้น \nบัดนี้ขยายเวลารับข้อเสนอโครงการจนถึง 11 เมษายน 2568 \nDownload ใบสมัครได้ที่ https://forms.gle/HQw2UcdtReRJxq248
URL:https://thaitara.org/en/event/funding-project-deadline-expansion/
LOCATION:TARA\, Thailand
CATEGORIES:Event-Announcement
END:VEVENT
BEGIN:VEVENT
DTSTART;TZID=Asia/Bangkok:20241120T150000
DTEND;TZID=Asia/Bangkok:20241120T170000
DTSTAMP:20260424T065208
CREATED:20240805T152708Z
LAST-MODIFIED:20240805T152708Z
UID:10000046-1732114800-1732122000@thaitara.org
SUMMARY:Taiwan-Thailand Smart Machinery International Talent Cultivation and Exchange Forum
DESCRIPTION:This forum will focus on the cultivation of talent in intelligent machinery.  This event aim to leverage and promote the exchange of intelligent technologies and talent in Taiwan and Thailand. \n  \nThe Forum will be conducted in English \nNote: More detail will be updated from time to time
URL:https://thaitara.org/en/event/taiwan-thailand-smart-machinery-international-talent-cultivation-and-exchange-forum/
LOCATION:TGI อมตะซิตี้ ชลบุรี\, ชลบุรี\, Thailand
CATEGORIES:Event-Announcement
END:VEVENT
BEGIN:VEVENT
DTSTART;TZID=Asia/Bangkok:20241002T080000
DTEND;TZID=Asia/Bangkok:20241007T170000
DTSTAMP:20260424T065208
CREATED:20241002T102451Z
LAST-MODIFIED:20241002T102451Z
UID:10000070-1727856000-1728320400@thaitara.org
SUMMARY:Robot SI Certification
DESCRIPTION:สมาคมผู้ประกอบการระบบอัตโนมัติและหุ่นยนต์ไทย (Thai Automation and Robotics Association : TARA) \nขอเชิญชวนท่านที่มีคุณสมบัติ \n*เป็นสมาชิก TARA \n*จบ ป.ตรี วิศวะ สาขาที่เกี่ยวข้อง  \n*มีประสบการณ์ใช้งานหุ่นยนต์ ไม่น้อยกว่า 5 ปี \n*มีใบประกาศนียบัตรรับรองความรู้ ความสามารถ  \n*ภาษาอังกฤษดี \n*มีเวลาและให้ความร่วมมือตลอดโครงการ  \nสมัครเข้ารับการคัดเลือกเป็นผู้ทดสอบ (Examiner) มาตรฐานอาชีพ Robot SI ระดับ 3 ของประเทศญี่ปุ่น  \n  \nภายใต้โครงการ Thailand & Japan Joint Committee on Personnel Development Project  for Robot Implementation in Thailand \n  \nโดยความร่วมมือของ METI x RRI x CHERSI x JARSIA x AOTS x TGI x TARA \n  \nสอบถามรายละเอียดได้ที่ \nคุณศิริพร (อึ่ง) ผู้ประสานงานโครงการ  \nโทร 086-0997097 \n\n\nอีเมล์: siriporn_s@aitech.co.th\n\n\n  \nสมัครด่วน!! รับจำนวนจำกัด [ฟรี] ได้ที่นี่ ตั้งแต่วันนี้ถึง 7 ตุลาคม 2567  \nhttps://forms.gle/BLG4X9ySBupED5b8A
URL:https://thaitara.org/en/event/robot-si-certification/
CATEGORIES:Event-Announcement
ATTACH;FMTTYPE=image/webp:https://thaitara.org/wp-content/uploads/2024/10/RobotExam.webp
END:VEVENT
BEGIN:VEVENT
DTSTART;VALUE=DATE:20240926
DTEND;VALUE=DATE:20240928
DTSTAMP:20260424T065208
CREATED:20240729T063813Z
LAST-MODIFIED:20240729T143228Z
UID:10000036-1727308800-1727481599@thaitara.org
SUMMARY:SISTAM2024
DESCRIPTION:📣 ลงทะเบียนเข้าฟังฟรี งานประชุม 3S – Smart\, Safe\, Sustainable Technology toward Tomorrow  ได้แล้ววันนี้! ครั้งแรกของงานประชุมที่ครอบคลุมทุกหัวข้อที่สำคัญของเทคโนโลยีด้านความปลอดภัยและการบำรุงรักษาอัจฉริยะของอุตสาหกรรมพร้อมรับฟังกรณีศึกษาจากบริษัทชั้นนำ ที่จะช่วยองค์กรและผู้ประกอบการ SMEs ในการหาโซลูชั่นใหม่ๆ เพื่อมุ่งสู่อุตสาหกรรมที่ปลอดภัยและยั่งยืน \n. \n📲 ลงทะเบียนเข้าชมฟัง ฟรี!: https://evcnx.co/EC \n🗓  26 – 27 กันยายน 2567 ที่ ไบเทค\, บางนา กรุงเทพฯ​ \n. \nเหตุผลที่ควรเข้าเยี่ยมชมงาน \n✅ อัพเดทเทรนด์ นวัตกรรม โซลูชั่น และเทคโลยีล่าสุดสำหรับผู้ประกอบการและ SMEs \n✅ ร่วมรับฟังกรณีศึกษา จากบริษัทชั้นนำต่างๆ \n✅ โอกาสในการสร้างเครือข่าย รับรู้ข้อมูลเชิงลึก จากเหล่าผู้เชี่ยวชาญในอุตสาหกรรม \n✅ จัดโดย คณะวิศวฯ จุฬาฯ ผนึกกำลัง 17 หน่วยงาน ภาครัฐ สถาบันและสมาคมที่เกี่ยวข้องในอุตสาหกรรม \n⏰ ด่วน! ที่นั่งมีจำนวนจำกัด \n👆ดูโปรแกรมสัมมนาเพิ่มเติม \n☎️ สอบถามเพิ่มเติม โทร: 02-559 0856-8 \n  \n#SISTAM #SISTAM2024 #sistam #smartindustrialsafety #technologyforadvancedmaintenance #maintenance #safety #technology #Factory #ChemicalEngineering #Predictive #Production #Automation #OHS #EHS #Occupational #SME #AI #Robotic #Cloud #ความปลอดภัยในอุตสาหกรรม #ความปลอดภัย #อาชีวอนามัย #สิ่งแวดล้อมและความปลอดภัย #อาชีวอนามัยและความปลอดภัย #บำรุงรักษา #บำรุงรักษาเครื่องจักร #การบำรุงรักษาเชิงแก้ไข #บำรุงเชิงคาดการณ์ #การผลิต #ระบบออโตเมชั่น #ExpoSis #ExhibitionandConference #exhibition #Conference #Seminar
URL:https://thaitara.org/en/event/sistam2024/
LOCATION:Bitec Bangna\, Thailand
CATEGORIES:Event-Announcement,Event-Seminar
ATTACH;FMTTYPE=image/png:https://thaitara.org/wp-content/uploads/2024/07/Sistam2024.png
END:VEVENT
BEGIN:VEVENT
DTSTART;VALUE=DATE:20240925
DTEND;VALUE=DATE:20240927
DTSTAMP:20260424T065208
CREATED:20240729T152225Z
LAST-MODIFIED:20240729T153356Z
UID:10000041-1727222400-1727395199@thaitara.org
SUMMARY:Robotics Summit 2024
DESCRIPTION:กระทรวงดิจิทัลเพื่อเศรษฐกิจและสังคม (MDES)  สำนักงานคณะกรรมการดิจิทัลเพื่อเศรษฐกิจและสังคมแห่งชาติ และ สมาคมผู้ใช้ดิจิทัลไทย (DUGA) ได้กำหนดจัดงาน Robotics Summit 2024 (ครั้งที่ 7) ภายใต้แนวคิดหลัก Advancing Robotics : Innovating Automation for Business Success กำหนดจัดงานวันที่ 25-26 กันยายน 2567 ณ ห้อง Jubilee A-B ชั้น 11 ณ โรงแรมเดอะเบอร์เคลีย์ ประตูน้ำ \n  \nทั้งนี้ ท่านนายกสมาคมฯ ได้มอบหมายให้เลขานุการ คุณศักดา สารพัดวิทยา เป็นองค์ปาฐกในงานอบรมสัมมนา ซึ่งจะบรรยายในวันที่ 26 กันยายน 2567 เวลา 11:30-12:00 น. หัวข้อ The Cutting-Edge Technologies Powering Supply Chain Optimization \n  \nเรียนเชิญสมาชิกและผู้สนใจไว้ล่วงหน้า ลิงค์ลงทะเบียนจะเพิ่มเติมภายหลัง
URL:https://thaitara.org/en/event/robotics-summit-2024/
CATEGORIES:Event-Announcement
END:VEVENT
BEGIN:VEVENT
DTSTART;TZID=Asia/Bangkok:20240911T083000
DTEND;TZID=Asia/Bangkok:20240911T103000
DTSTAMP:20260424T065208
CREATED:20240815T092957Z
LAST-MODIFIED:20240815T092957Z
UID:10000052-1726043400-1726050600@thaitara.org
SUMMARY:Press Release RE: MOU KMITL vs TARA
DESCRIPTION:สถาบันเทคโนโลยีพระจอมเกล้าเจ้าคุณทหารลาดกระบัง สำนักวิชาศึกษาทั่วไป ขอเชิญสมาคมผู้ประกอบการระอัตโนมัติและหุ่นยนต์ไทย ร่วมแถลงข่าว เพื่อร่วมมือในการแลกเปลี่ยนองค์ความรู้ระหว่าง สถาบันฯและสมาคมฯ ในวันที่ 11 กันยายน 2567 เวลา 8:30 – 10:30 ที่สำนักการเรียนรู้ตลอดชีวิต สถาบันเทคโนโลยีพระจอมเกล้าเจ้าคุณทหารลาดกระบัง
URL:https://thaitara.org/en/event/press-release-re-mou-kmitl-vs-tara/
CATEGORIES:Event-Announcement
END:VEVENT
BEGIN:VEVENT
DTSTART;TZID=Asia/Bangkok:20240828T080000
DTEND;TZID=Asia/Bangkok:20240930T170000
DTSTAMP:20260424T065208
CREATED:20240828T123207Z
LAST-MODIFIED:20240828T123207Z
UID:10000060-1724832000-1727715600@thaitara.org
SUMMARY:Special Offer Infinite Element Program Service by AppliCAD
DESCRIPTION:เรียน สมาชิก TARA ทุกท่าน \nขอแนะนำบริการรับวิเคราะห์ทางวิศวกรรมด้วยโปรแกรมให้กับสมาชิก TARA ซึ่งผลการวิเคราะห์ที่ได้รับสามารถนำไปปรับปรุงงานได้ โดยช่วยการลดการทดสอบจริงซ้ำได้ \nทางบริษัทแอพพลิแคด จำกัด มหาชน มีบริการรับวิเคราะห์งานวิศวกรรมด้วยโปรแกรม Finite element โดยการวิเคราะห์ด้วยโปรแกรมตัวช่วยเกิดภาพลักษณ์ที่น่าเชื่อถือ และยังส่วนที่ทำให้เกิดการใส่ใจต่อสิ่งแวดล้อมเพราะลดการเกิดของเสียที่เกิดจากการทดสอบจริงซ้ำหลายครั้ง \nซึ่งผลการวิเคราะห์ที่ได้รับสามารถนำไปปรับปรุงงานได้ และทางเราให้บริการคำแนะนำเพิ่มเติมจากทีมงานผู้เชียวชาญจากมหาวิทยาลัยเทคโนโลยีพระจอมเกล้าพระนครเหนือ \nสอบถามเพิ่มเติมได้ที่\nคุณกัญวรา(ตอย)\nTel. 082-699-6945\nE-mail : kanwara@applicadthai.com
URL:https://thaitara.org/en/event/special-offer-infinite-element-program-service-by-applicad/
CATEGORIES:Event-Announcement
ATTACH;FMTTYPE=image/webp:https://thaitara.org/wp-content/uploads/2024/08/applicad28aug24.webp
END:VEVENT
BEGIN:VEVENT
DTSTART;TZID=Asia/Bangkok:20240827T160000
DTEND;TZID=Asia/Bangkok:20240827T180000
DTSTAMP:20260424T065208
CREATED:20240822T093055Z
LAST-MODIFIED:20240823T130124Z
UID:10000057-1724774400-1724781600@thaitara.org
SUMMARY:Vision & Mission Draft Meeting1
DESCRIPTION:ประชุมนัดแรก ยกร่าง TARA Vision / Mission
URL:https://thaitara.org/en/event/vision-mission-draft-meeting1/
LOCATION:โรงเบียร์เยอรมัน เลียบด่วน\, Thailand
CATEGORIES:Event-Announcement
ATTACH;FMTTYPE=image/webp:https://thaitara.org/wp-content/uploads/2024/08/missionvision-webp.webp
END:VEVENT
BEGIN:VEVENT
DTSTART;TZID=Asia/Bangkok:20240820T150000
DTEND;TZID=Asia/Bangkok:20240820T170000
DTSTAMP:20260424T065208
CREATED:20240819T065128Z
LAST-MODIFIED:20240819T065128Z
UID:10000056-1724166000-1724173200@thaitara.org
SUMMARY:Monthly Meeting August2024
DESCRIPTION:ประชุมกรรมการประจำเดือนสิงหาคม 2567
URL:https://thaitara.org/en/event/monthly-meeting-august2024/
LOCATION:FIBO KMUTT\, Thailand
CATEGORIES:Event-Announcement
ATTACH;FMTTYPE=image/webp:https://thaitara.org/wp-content/uploads/2024/08/ประชุมกรรมการ-สค67webp.webp
END:VEVENT
BEGIN:VEVENT
DTSTART;VALUE=DATE:20240813
DTEND;VALUE=DATE:20240926
DTSTAMP:20260424T065208
CREATED:20240813T104306Z
LAST-MODIFIED:20240813T104306Z
UID:10000050-1723507200-1727308799@thaitara.org
SUMMARY:SOLIDWORKS Special Offer
DESCRIPTION:สมาชิก TARA ผู้นำนวัตกรรม พลาดไม่ได้‼️ \nในนามของบริษัท แอพพลิแคด จำกัด (มหาชน) ขอเสนอส่วนลดสูงสุด 20% SOLIDWORKS เป็นโปรแกรมที่ได้รับความไว้วางใจในอุตสาหกรรมยานยนต์ หุ่นยนต์ และระบบอัตโนมัติ พร้อมบริการหลังการขายจากทีมงานผู้เชี่ยวชาญเฉพาะทาง \nยกระดับนวัตกรรมของคุณวันนี้ อย่ารอช้า! ติดต่อเราเพื่อรับสิทธิพิเศษก่อนใคร! \nหรือติดต่อสอบถามเพิ่มเติมได้ที่\nคุณ ชนิษฐา โชติพรม\nTel. 095-365-6871\nE-Mail Chanittha@applicadthai
URL:https://thaitara.org/en/event/solidworks-special-offer/
CATEGORIES:Event-Announcement
ATTACH;FMTTYPE=image/webp:https://thaitara.org/wp-content/uploads/2024/08/applicad-webp.webp
END:VEVENT
BEGIN:VEVENT
DTSTART;TZID=Asia/Bangkok:20240116T163000
DTEND;TZID=Asia/Bangkok:20240116T233000
DTSTAMP:20260424T065208
CREATED:20240105T064851Z
LAST-MODIFIED:20240109T073156Z
UID:10000015-1705422600-1705447800@thaitara.org
SUMMARY:Happy New Year Party
DESCRIPTION:ขอเชิญสมาชิกสามัญ สมาชิกสมทบ สมาชิกกิตติมศักดิ์ พันธมิตร ร่วมงาน Annual Party ของสมาคมฯ ในวันที่ 16 มกราคม 2567 ณ Aurora Hall ร้าน 9 Salad รามอินทรา กม.7 \nลงทะเบียน https://forms.gle/dGCVRGAjY3QCn2ELA \nสมาชิกรับสิทธิ์เข้างานฟรี บริษัทละ 2 ที่นั่ง ซื้อเพิ่ม ที่นั่งละ 1\,500 บาท \nแจ้งชื่อเพิ่มได้ที่ info@thaitara.org
URL:https://thaitara.org/en/event/happy-new-year-party-2/
CATEGORIES:Event-Announcement
ATTACH;FMTTYPE=image/jpeg:https://thaitara.org/wp-content/uploads/2024/01/new-year-party.jpg
END:VEVENT
BEGIN:VEVENT
DTSTART;TZID=Asia/Bangkok:20231216T150000
DTEND;TZID=Asia/Bangkok:20231216T160000
DTSTAMP:20260424T065208
CREATED:20231212T163610Z
LAST-MODIFIED:20240109T073128Z
UID:10000007-1702738800-1702742400@thaitara.org
SUMMARY:งานประชุมกรรมการ ประจำเดือนธันวาคม
DESCRIPTION: 
URL:https://thaitara.org/en/event/board-meeting-december/
LOCATION:จันทร์งามเมาเท้นวิวรีสอร์ท
CATEGORIES:Event-Announcement
END:VEVENT
END:VCALENDAR