BEGIN:VCALENDAR
VERSION:2.0
PRODID:-//Thai TARA - ECPv6.2.9//NONSGML v1.0//EN
CALSCALE:GREGORIAN
METHOD:PUBLISH
X-ORIGINAL-URL:https://thaitara.org
X-WR-CALDESC:Events for Thai TARA
REFRESH-INTERVAL;VALUE=DURATION:PT1H
X-Robots-Tag:noindex
X-PUBLISHED-TTL:PT1H
BEGIN:VTIMEZONE
TZID:Asia/Bangkok
BEGIN:STANDARD
TZOFFSETFROM:+0700
TZOFFSETTO:+0700
TZNAME:+07
DTSTART:20260101T000000
END:STANDARD
END:VTIMEZONE
BEGIN:VEVENT
DTSTART;TZID=Asia/Bangkok:20260318T080000
DTEND;TZID=Asia/Bangkok:20260321T170000
DTSTAMP:20260424T203707
CREATED:20260303T084645Z
LAST-MODIFIED:20260303T084646Z
UID:10000077-1773820800-1774112400@thaitara.org
SUMMARY:
DESCRIPTION:🌟 อย่าหยุดแค่ 4.0! พาสู่ Industry 5.0 ที่ Thailand Industrial Fair 2026! 🌟 \n🗓️ 18 – 21 มี.ค. 69 ณ ไบเทค บางนา \nโอกาสสำคัญของผู้ประกอบการที่ต้องการโชว์ศักยภาพด้านเครื่องจักร\, ระบบอัตโนมัติ\, โลจิสติกส์\, และโซลูชั่นพลังงานสะอาด \nเรียนเชิญร่วมออกบูธ เพื่อแสดงนวัตกรรมที่ผสานความอัจฉริยะของ AI เข้ากับความยั่งยืนของมนุษย์ (Industry 5.0) สร้างโอกาสทางธุรกิจที่ยั่งยืน และขยายฐานลูกค้าในตลาดอุตสาหกรรมที่ใหญ่ที่สุด! \nสอบถามเพิ่มเติมได้ที่ 0619244566
URL:https://thaitara.org/event/7163/
LOCATION:Bitec Bangna\, Thailand
CATEGORIES:Event-Exhibition
ATTACH;FMTTYPE=image/png:https://thaitara.org/wp-content/uploads/2026/03/1170-x-600-1-scaled.png
END:VEVENT
BEGIN:VEVENT
DTSTART;VALUE=DATE:20260327
DTEND;VALUE=DATE:20260328
DTSTAMP:20260424T203707
CREATED:20260307T162325Z
LAST-MODIFIED:20260307T162325Z
UID:10000079-1774569600-1774655999@thaitara.org
SUMMARY:AGM 2026 & PARTY NIGHT
DESCRIPTION:📢 ขอเชิญสมาชิกเข้าร่วมงาน TARA Annual General Meeting & Election 2026 \nอีกหนึ่งวาระสำคัญของสมาคม\nการเลือกตั้งนายกสมาคมและคณะกรรมการชุดใหม่ \nขอเชิญ สมาชิกสามัญทุกท่านร่วมใช้สิทธิ์เลือกตั้ง\nเพื่อร่วมกำหนดทิศทางและอนาคตของสมาคม TARA \nหากท่านไม่สะดวกเข้าร่วมงานในวันดังกล่าว\nสามารถใช้สิทธิ์เลือกตั้งล่วงหน้าได้ \nภายในงานยังมี\n▪️ รายงานผลการดำเนินงานประจำปีของสมาคม\n▪️ วาระการเลือกตั้งคณะกรรมการชุดใหม่\n▪️ ร่วมลุ้นและร่วมต้อนรับ นายกสมาคมคนใหม่ \n📅 27 มีนาคม 2569\n⏰ 13.00 – 16.45 น.\n📍 The Banquet Hall at Nathong \n✨ ขอเชิญสมาชิกมาร่วมเป็นส่วนหนึ่งของก้าวใหม่ของ TARA \nหลังจากนั้น เชิญร่วมงานเลี้ยงสังสรรค์ในเวลา 18:00 น. สถานที่เดียวกันค่ะ
URL:https://thaitara.org/event/agm-2026-party-night/
LOCATION:The Banquet Hall at Nathong\, รัชดา 18\, ฺBangkok\, Thailand
CATEGORIES:Event-Announcement
ATTACH;FMTTYPE=image/png:https://thaitara.org/wp-content/uploads/2026/03/poster-scaled-e1772900351100.png
END:VEVENT
BEGIN:VEVENT
DTSTART;TZID=Asia/Bangkok:20260327T133000
DTEND;TZID=Asia/Bangkok:20260327T210000
DTSTAMP:20260424T203707
CREATED:20260319T102631Z
LAST-MODIFIED:20260319T102631Z
UID:10000082-1774618200-1774645200@thaitara.org
SUMMARY:
DESCRIPTION:ขอเชิญสมาชิกทุกท่าน เข้าร่วมประชุมใหญ่สามัญครั้งที่ 1/2569 ในวันศุกร์ที่ 27 มีนาคม 2569 ณ The Banquet Hall at Nathong ตั้งแต่เวลา 13:30 น. จากนั้นจะเป็นงานเลี้ยงสังสรรค์ในช่วงค่ำ เริ่ม 18:00 น. สถานที่เดียวกัน
URL:https://thaitara.org/event/7193/
LOCATION:Nathong\, Thailand
CATEGORIES:Event-Announcement
ATTACH;FMTTYPE=image/png:https://thaitara.org/wp-content/uploads/2026/03/POSTER-02-scaled.png
END:VEVENT
END:VCALENDAR