BEGIN:VCALENDAR
VERSION:2.0
PRODID:-//Thai TARA - ECPv6.2.9//NONSGML v1.0//EN
CALSCALE:GREGORIAN
METHOD:PUBLISH
X-ORIGINAL-URL:https://thaitara.org
X-WR-CALDESC:Events for Thai TARA
REFRESH-INTERVAL;VALUE=DURATION:PT1H
X-Robots-Tag:noindex
X-PUBLISHED-TTL:PT1H
BEGIN:VTIMEZONE
TZID:Asia/Bangkok
BEGIN:STANDARD
TZOFFSETFROM:+0700
TZOFFSETTO:+0700
TZNAME:+07
DTSTART:20240101T000000
END:STANDARD
END:VTIMEZONE
BEGIN:VEVENT
DTSTART;TZID=Asia/Bangkok:20241004T080000
DTEND;TZID=Asia/Bangkok:20241130T170000
DTSTAMP:20260425T052555
CREATED:20241004T165920Z
LAST-MODIFIED:20241004T170016Z
UID:10000071-1728028800-1732986000@thaitara.org
SUMMARY:Menam Mechanika ; Green Business
DESCRIPTION:*สร้างสิ่งแวดล้อมและสังคมที่น่าอยู่ไปกับ Menam Mechanika เติบโตร่วมกันอย่างยั่งยืน ด้วยกระบวนการผลิตสีเขียว (Green process) \n*Menam Mechanika มุ่งมั่นดำเนินธุรกิจโดยตระหนักถึงหน้าที่และความรับผิดชอบต่อชุมชน สังคม และสิ่งแวดล้อมอย่างจริงจังและต่อเนื่อง \n\nAS/RS \nคลังสินค้าอัตโนมัติ ระบบอัจฉริยะ \nCertificate\nGreen Business
URL:https://thaitara.org/event/menam-mechanika-green-business/
CATEGORIES:Event-News
ATTACH;FMTTYPE=image/webp:https://thaitara.org/wp-content/uploads/2024/10/แม่น้ำสสว.webp
END:VEVENT
END:VCALENDAR