BEGIN:VCALENDAR
VERSION:2.0
PRODID:-//Thai TARA - ECPv6.2.9//NONSGML v1.0//EN
CALSCALE:GREGORIAN
METHOD:PUBLISH
X-ORIGINAL-URL:https://thaitara.org
X-WR-CALDESC:Events for Thai TARA
REFRESH-INTERVAL;VALUE=DURATION:PT1H
X-Robots-Tag:noindex
X-PUBLISHED-TTL:PT1H
BEGIN:VTIMEZONE
TZID:Asia/Bangkok
BEGIN:STANDARD
TZOFFSETFROM:+0700
TZOFFSETTO:+0700
TZNAME:+07
DTSTART:20240101T000000
END:STANDARD
END:VTIMEZONE
BEGIN:VEVENT
DTSTART;TZID=Asia/Bangkok:20241120T150000
DTEND;TZID=Asia/Bangkok:20241120T170000
DTSTAMP:20260424T201811
CREATED:20240805T152708Z
LAST-MODIFIED:20240805T152708Z
UID:10000046-1732114800-1732122000@thaitara.org
SUMMARY:Taiwan-Thailand Smart Machinery International Talent Cultivation and Exchange Forum
DESCRIPTION:This forum will focus on the cultivation of talent in intelligent machinery.  This event aim to leverage and promote the exchange of intelligent technologies and talent in Taiwan and Thailand. \n  \nThe Forum will be conducted in English \nNote: More detail will be updated from time to time
URL:https://thaitara.org/event/taiwan-thailand-smart-machinery-international-talent-cultivation-and-exchange-forum/
LOCATION:TGI อมตะซิตี้ ชลบุรี\, ชลบุรี\, Thailand
CATEGORIES:Event-Announcement
END:VEVENT
END:VCALENDAR