BEGIN:VCALENDAR
VERSION:2.0
PRODID:-//Thai TARA - ECPv6.2.9//NONSGML v1.0//EN
CALSCALE:GREGORIAN
METHOD:PUBLISH
X-WR-CALNAME:Thai TARA
X-ORIGINAL-URL:https://thaitara.org
X-WR-CALDESC:Events for Thai TARA
REFRESH-INTERVAL;VALUE=DURATION:PT1H
X-Robots-Tag:noindex
X-PUBLISHED-TTL:PT1H
BEGIN:VTIMEZONE
TZID:Asia/Bangkok
BEGIN:STANDARD
TZOFFSETFROM:+0700
TZOFFSETTO:+0700
TZNAME:+07
DTSTART:20240101T000000
END:STANDARD
END:VTIMEZONE
BEGIN:VEVENT
DTSTART;TZID=Asia/Bangkok:20241121T100000
DTEND;TZID=Asia/Bangkok:20241123T170000
DTSTAMP:20260425T100018
CREATED:20241018T231004Z
LAST-MODIFIED:20241018T231004Z
UID:10000073-1732183200-1732381200@thaitara.org
SUMMARY:Taiwan Expo in Thailand2024
DESCRIPTION:สภาการค้าไต้หวัน (TAITRA) ขอเรียนเชิญท่านเข้าร่วมงาน 2024 Taiwan Expo in Thailand เพื่อเยี่ยมชมงานแสดงสินค้าและเจรจาจับคู่ธุรกิจ ภายในงานท่านจะได้พบกับสินค้าและนวัตกรรมชั้นนำในหลากหลายอุตสาหกรรม จากผู้ประกอบการไต้หวันมากกว่า 170 บริษัท  \nภายในงาน Taiwan Expo มีการจัดแสดงสินค้าและนวัตกรรมภายใต้หัวข้อที่น่าสนใจดังนี้: \n♻️ เศรษฐกิจหมุนเวียน (Circular Economy) พบกับนวัตกรรมและโซลูชั่น Net-Zero เพื่อลดการปล่อยคาร์บอน\, พลังงานแสงอาทิตย์\, บรรจุภัณฑ์รักษ์โลก\, เส้นด้ายจากวัสดุรีไซเคิล เป็นต้น \n⚙️ การผลิตอัจฉริยะ (Smart Manufacturing) เทคโนโลยีและเครื่องจักรการผลิตที่นำระบบ AI มาเป็นตัวช่วยในการควบคุมการปล่อยคาร์บอน อีกทั้งยังตอบสนองต่อนโยบาย BCG ของไทย  \n🩺 การแพทย์อัจฉริยะ (Smart Medical) นวัตกรรม AI ที่นำมาประยุกต์ใช้กับทางการแพทย์ เกิดเป็นนวัตกรรมที่ล้ำสมัยและได้รับการยอมรับในระดับโลก พบกับระบบการดูแลสุขภาพอัจฉริยะ \,การแพทย์ทางไกล (TeleMed) และอุปกรณ์ช่วยเหลือ สำหรับผู้ป่วยและผู้สูงอายุ  \n🏠 วิถีชีวิตอัจฉริยะ (Smart Lifestyle) เทคโนโลยีที่ออกแบบมาเพื่อยกระดับคุณภาพชีวิตและการอนุรักษ์สิ่งแวดล้อม กว่า 67 รายการที่ได้รับรางวัลการันตีคุณภาพ \n🌏 วัฒนธรรมและการท่องเที่ยว (Cultural & Tourism) และสินค้าหัตถกรรมแบบดั้งเดิมที่สื่อถึงวัฒนธรรมอันโดดเด่นของไต้หวัน \nรายละเอียดงาน 2024 Taiwan Expo in Thailand \n📅 วันที่: 21-23 พฤศจิกายน 2567 เวลา 10.00 – 18.00 น.\n🏢 สถานที่: ศูนย์ประชุมแห่งชาติสิริกิติ์ Hall 5\n🌐 ดูรายชื่อ Supplier ไต้หวัน: https://shorturl.asia/rV4N2\n🌐 Official Website: https://thai.taiwanexpoasean.com/en/index.html \n🔗ลงทะเบียนได้ที่: https://forms.gle/4F9Gm3gSKLXfKtec7 \n✨ ลงทะเบียนฟรี! ไม่มีค่าใช้จ่ายและข้อผูกมัดทางการค้า\n✨ บริการล่ามไทย-จีน ฟรี! สำหรับผู้ลงทะเบียนเจรจาธุรกิจล่วงหน้า \nสอบถามข้อมูลเพิ่มเติม:\n📧 อีเมล: thananporn@taitra.org.tw \n📞 โทร: 02-651-4470 (คุณก้อย)
URL:https://thaitara.org/event/taiwan-expo-in-thailand2024/
LOCATION:QSNCC\, Thailand
CATEGORIES:Event-Exhibition
ATTACH;FMTTYPE=image/webp:https://thaitara.org/wp-content/uploads/2024/10/TWEP169.webp
END:VEVENT
BEGIN:VEVENT
DTSTART;VALUE=DATE:20240821
DTEND;VALUE=DATE:20240825
DTSTAMP:20260425T100018
CREATED:20240807T051409Z
LAST-MODIFIED:20240807T051409Z
UID:10000047-1724198400-1724543999@thaitara.org
SUMMARY:Automation Taipei
DESCRIPTION:สมาชิก TARA บางส่วนได้เข้าร่วมเยี่ยมชมงานภายในการสนับสนุนโปรแกรม VIP จาก TAITRA ระหว่างวันที่ 21-24 สิงหาคม 2567
URL:https://thaitara.org/event/automation-taipei/
LOCATION:TaiNEX 1&2 Taipei\, Taiwan
CATEGORIES:Event-Exhibition
ATTACH;FMTTYPE=image/webp:https://thaitara.org/wp-content/uploads/2024/08/TAIROA-webp.webp
END:VEVENT
END:VCALENDAR