BEGIN:VCALENDAR
VERSION:2.0
PRODID:-//Thai TARA - ECPv6.2.9//NONSGML v1.0//EN
CALSCALE:GREGORIAN
METHOD:PUBLISH
X-ORIGINAL-URL:https://thaitara.org
X-WR-CALDESC:Events for Thai TARA
REFRESH-INTERVAL;VALUE=DURATION:PT1H
X-Robots-Tag:noindex
X-PUBLISHED-TTL:PT1H
BEGIN:VTIMEZONE
TZID:Asia/Bangkok
BEGIN:STANDARD
TZOFFSETFROM:+0700
TZOFFSETTO:+0700
TZNAME:+07
DTSTART:20240101T000000
END:STANDARD
END:VTIMEZONE
BEGIN:VEVENT
DTSTART;TZID=Asia/Bangkok:20260318T080000
DTEND;TZID=Asia/Bangkok:20260321T170000
DTSTAMP:20260424T180441
CREATED:20260303T084645Z
LAST-MODIFIED:20260303T084646Z
UID:10000077-1773820800-1774112400@thaitara.org
SUMMARY:
DESCRIPTION:🌟 อย่าหยุดแค่ 4.0! พาสู่ Industry 5.0 ที่ Thailand Industrial Fair 2026! 🌟 \n🗓️ 18 – 21 มี.ค. 69 ณ ไบเทค บางนา \nโอกาสสำคัญของผู้ประกอบการที่ต้องการโชว์ศักยภาพด้านเครื่องจักร\, ระบบอัตโนมัติ\, โลจิสติกส์\, และโซลูชั่นพลังงานสะอาด \nเรียนเชิญร่วมออกบูธ เพื่อแสดงนวัตกรรมที่ผสานความอัจฉริยะของ AI เข้ากับความยั่งยืนของมนุษย์ (Industry 5.0) สร้างโอกาสทางธุรกิจที่ยั่งยืน และขยายฐานลูกค้าในตลาดอุตสาหกรรมที่ใหญ่ที่สุด! \nสอบถามเพิ่มเติมได้ที่ 0619244566
URL:https://thaitara.org/event/7163/
LOCATION:Bitec Bangna\, Thailand
CATEGORIES:Event-Exhibition
ATTACH;FMTTYPE=image/png:https://thaitara.org/wp-content/uploads/2026/03/1170-x-600-1-scaled.png
END:VEVENT
BEGIN:VEVENT
DTSTART;TZID=Asia/Bangkok:20260312T120000
DTEND;TZID=Asia/Bangkok:20260312T130000
DTSTAMP:20260424T180441
CREATED:20260308T152425Z
LAST-MODIFIED:20260308T152426Z
UID:10000081-1773316800-1773320400@thaitara.org
SUMMARY:
DESCRIPTION:𝗦𝗣𝗦 𝗦𝘁𝗮𝗴𝗲 𝗕𝗮𝗻𝗴𝗸𝗼𝗸 𝟮𝟬𝟮𝟲 ขอเชิญชวนทุกท่านเข้าร่วมสัมมนาในหัวข้อ The Rise of Cobots: When Humans and Robots Work Together in the Era of AI-Driven Production : The Rise of Cobots: เมื่อมนุษย์และหุ่นยนต์ทำงานร่วมกันในยุค Al-Driven Production\n.\nSPS Stage Bangkok ขอเชิญชวนวิศวกรซ่อมบำรุง ผู้เชี่ยวชาญในสายการผลิต และผู้จัดการโรงงานร่วมสัมมนาในหัวข้อ The Rise of Cobots: When Humans and Robots Work Together in the Era of AI-Driven Production :\nThe Rise of Cobots: เมื่อมนุษย์และหุ่นยนต์ทำงานร่วมกันในยุค Al-Driven Production โดยผู้เชี่ยวชาญจากสมาคมผู้ประกอบการระบบอัตโนมัติและหุ่นยนต์ไทย (TARA) ภายในงาน Automation Thailand 2026 (ส่วนหนึ่งของงาน Intelligent Asia Thailand 2026)\n.\nโลกของการผลิตยุคใหม่นั้น เป็นโลกที่แรงงานและเทคโนโลยีต้องผสานศักยภาพเข้าด้วยกัน ไม่ว่าจะเป็นความยืดหยุ่น ความคิดสร้างสรรค์ การแก้ปัญหาเฉพาะหน้าของมนุษย์ หรือการทำงานที่แม่นยำ รวดเร็ว และมีความต่อเนื่องของหุ่นยนต์ ภายใต้การสนับสนุนของ AI ที่จะช่วยให้กระบวนการต่าง ๆ สามารถเกิดขึ้นได้อย่างไร้รอยต่อและมีประสิทธิภาพสูงที่สุด\n.\nAutomation Thailand 2026 จึงได้จัดหัวข้อสัมมนา ‘The Rise of Cobots: เมื่อมนุษย์และหุ่นยนต์ทำงานร่วมกันในยุค Al-Driven Production’ เพื่อขับเคลื่อนการทำงานยุคใหม่ที่ต้องการประสิทธิภาพยิ่งกว่าที่เคยมีมา\n.\nประเด็นเนื้อหาที่น่าสนใจ:\n– แนวทางการบูรณาการใช้งาน Cobot ร่วมกับแรงงาน\n– ทักษะของแรงงานในการทำงานในสภาพแวดล้อมยุคใหม่\n– ตัวอย่างการใช้งานจริงและผลลัพธ์ที่เกิดขึ้น \nวิทยากร:\nคุณชัชชัย ผลมูล\nรองนายกสมาคมฝ่ายความร่วมมือและพัฒนาธุรกิจ\nสมาคมผู้ประกอบการระบบอัตโนมัติและหุ่นยนต์ไทย (TARA) \nเวที 𝗦𝗣𝗦 𝗦𝘁𝗮𝗴𝗲 𝗕𝗮𝗻𝗴𝗸𝗼𝗸 𝟮𝟬𝟮𝟲 ภายในงาน Automation Thailand 2026 (ส่วนหนึ่งของงาน Intelligent Asia Thailand 2026) ณ ไบเทค บางนา วันที่ 12 มีนาคม 2569 เวลา 12.10 – 13.00 น.\n.\nลงทะเบียนสำรองที่นั่งฟรีได้ที่:\nhttps://bit.ly/3ZxhiJc
URL:https://thaitara.org/event/7183/
LOCATION:Bitec Bangna\, Thailand
CATEGORIES:Event-Seminar
ATTACH;FMTTYPE=image/jpeg:https://thaitara.org/wp-content/uploads/2026/03/chatchai-12-3-69.jpg
END:VEVENT
BEGIN:VEVENT
DTSTART;VALUE=DATE:20260310
DTEND;VALUE=DATE:20260313
DTSTAMP:20260424T180441
CREATED:20260307T160855Z
LAST-MODIFIED:20260307T160935Z
UID:10000078-1773100800-1773359999@thaitara.org
SUMMARY:VICTAM ASIA & GRAPAS ASIA 2026
DESCRIPTION:Victam Asia & Grapas Asia2026 : งานแสดงอุตสาหกรรมอาหารสัตว์ สุขภาพสัตว์ และเทคโนโลยีการสีข้าว การแปรรูปธัญพืชด้วยเทคโนโลยีใหม่ๆ วันที่ 10-12 มีนาคม 2569 ณ ไบเทค กรุงเทพฯ
URL:https://thaitara.org/event/7171/
LOCATION:Bitec Bangna\, Thailand
CATEGORIES:Event-Exhibition
ATTACH;FMTTYPE=image/jpeg:https://thaitara.org/wp-content/uploads/2026/03/01-Banner-on-BITEC-Website.jpg
END:VEVENT
BEGIN:VEVENT
DTSTART;TZID=Asia/Bangkok:20241016T100000
DTEND;TZID=Asia/Bangkok:20241018T170000
DTSTAMP:20260424T180441
CREATED:20240921T061927Z
LAST-MODIFIED:20240921T061928Z
UID:10000068-1729072800-1729270800@thaitara.org
SUMMARY:LogiMAT Southeast Asia 2024
DESCRIPTION:LogiMAT Southeast Asia 2024 งานแสดงสินค้าสุดยอดเทคโนโลยีระบบคลังสินค้าอัจฉริยะและ ระบบการจัดการฟู้ดโลจิสติกส์  ระบบควบคุมอุณหภูมิ และโซลูชั่นการขนส่งแบบครบวงจร  ระหว่างวันที่ 16-18 ตุลาคม 2567 ที่ ศูนย์นิทรรศการและการประชุม ไบเทค บางนา Hall 100 \nห้ามพลาด!  งานแสดงเทคโนโลยีคลังสินค้า และฟู้ดโลจิสติกส์ ที่ทันสมัยที่สุด  อาทิ \n\nMaterial handling and storage system\, Warehouse and equipment\, Warehouse and production controls / robotics\, Loading technology and systems\, Robot Packaging solution\nFood Logistics และ Cold Chain Solutions นวัตกรรม โซลูชั่น และเครือข่ายด้านโลจิสติกส์สำหรับอาหาร ห่วงโซ่ความเย็น  ระบบควบคุมอุณหภูมิภายในคลังสินค้า ตลอดจนระบบการขนส่งแบบครบวงจร\n\nพิเศษสุดในปีนี้  \n\nพบกับผู้แสดงสินค้ากว่า 130 บูธจากทั่วโลก นำเทคโนโลยีที่ทันสมัยที่สุดมาแสดง ไม่ว่าจะเป็นระบบ Automation\, Robotics\,  และ การจัดการข้อมูลด้วย AI\nLogiSYM Symposium & LogiMAT Forum – 2 เวทีสัมมนาใหญ่ กว่า 20 หัวข้อเรื่อง อัดแน่นเนื้อหาใหม่ๆ อัพเดทเทรนด์และเทคโนโลยีโลจิสติกส์\nSmart Logistic Talk : The Business Transformation เสวนาพิเศษ แชร์ความรู้และประสบการณ์จริงในการใช้ Smart Logistics สู่ความสำเร็จในธุรกิจ  โดย CEO ชั้นนำของประเทศไทย\nLogistic Clinic ให้คำปรึกษาวินิจฉัยโรงงานเบื้องต้นฟรี และ Mini Classroom สอนเทคนิคพิเศษ นำทีมโดยผู้เชี่ยวชาญ กองโลจิสติก กรมส่งเสริมอุตสาหกรรม\nExclusive Bruncheon & Business Matching Application เลี้ยงต้อนรับพิเศษ ในบรรยากาศเป็นกันเอง เจรจาธุรกิจ สร้างเครือข่ายความสัมพันธ์กับผู้นำในวงการโลจิสติกส์ และสามารถนัดหมายล่วงหน้าผ่าน Business Matching Application\nProduct Demonstration Show โชว์สาธิตพิเศษ เทคโนโลยี การทำงานของระบบคลังสินค้าอัจฉริยะ ตั้งแต่ต้นน้ำถึงปลายน้ำ เห็นภาพและเข้าใจการทำงานทั้งหมดของระบบ เปิดให้เข้าชมวันละ 2 รอบต่อวัน\n\n**พิเศษ หากต้องการเข้าชมงานเป็นหมู่คณะ จำนวน 10 คนขึ้นไป โปรดติดต่อทีมงานเพื่อ จัดรถรับส่งพิเศษ ไปยังบริษัทของท่านโดยตรง สนใจติดต่อ คุณ CK โทร : 096 – 931 4578 \n  \n  \n   \n🔗 ลงทะเบียนตอนนี้เพื่อเข้าชมงาน!: \n[ https://www.logimat-sea.com/become-a-visitor ]\nhttps://www.logimat-sea.com/ \nhttps://www.facebook.com/logimatsea \n  \nLogiMAT Southeast Asia \n16-18 ตุลาคม 2024 | ไบเทค บางนา ฮอลล์ 100 กรุงเทพฯ ประเทศไทย \n#LogiMAT #LogiFOOD #LogiMATsea #LogiMATsoutheastasia #WeAreLogiMAT #ColdChainSolutions #FoodLogistics #SupplyChainStability
URL:https://thaitara.org/event/logimat-southeast-asia-2024/
LOCATION:Bitec Bangna\, Thailand
CATEGORIES:Event-Exhibition
ATTACH;FMTTYPE=image/webp:https://thaitara.org/wp-content/uploads/2024/09/logisticclinic.webp
END:VEVENT
BEGIN:VEVENT
DTSTART;TZID=Asia/Bangkok:20240926T103000
DTEND;TZID=Asia/Bangkok:20240926T160000
DTSTAMP:20260424T180441
CREATED:20240922T041859Z
LAST-MODIFIED:20240922T041859Z
UID:10000069-1727346600-1727366400@thaitara.org
SUMMARY:Smart Industrial Safety & Technology for Advanced Maintenance
DESCRIPTION:กรมโรงงานอุตสาหกรรม  และพันธมิตร เรียนเชิญร่วม  งานสัมมนา “ความปลอดภัยในอุตสาหกรรมอัจฉริยะ” ที่ครอบคลุมทุกหัวข้อของเทคโนโลยีความปลอดภัยอัจฉริยะและโซลูชั่นการบำรุงรักษาขั้นสูง\nในวันที่ 26 กันยายน 2567 ตั้งแต่ 10:30 – 16:00 น.\n.\nพร้อมรับฟังกรณีศึกษาและเสวนาพิเศษจากผู้เชี่ยวชาญชั้นนำที่จะมาแชร์ประสบการณ์ และความรู้ดีๆที่คุณสามารถนำไปต่อยอดกับการทำงาน และเพิ่มประสิทธิภาพในการผลิตให้กับองค์กรของคุณ\n.\n*ลงทะเบียนเข้างาน ฟรี !  https://mobile.eventpassinsight.co/registration/create/sist24/?code=2024\n \n*26 – 27 กันยายน 2567 ที่ ไบเทค\, บางนา กรุงเทพฯ\n \n*ดูโปรแกรมสัมมนาเพิ่มเติม https://sistam-asia.com/conference-programme/ \nข้อมูลเพิ่มเติม -> ศูนย์นวัตกรรมการผลิตยั่งยืน (SMC) เนคเทค สวทช.\n\nLine id: @smceeci\nhttps://web.facebook.com/smceeci\nhttps://www.nectec.or.th/smc/\nศูนย์ฝึกอบรม SMC Academy:  https://www.nectec.or.th/smc/smc-academy/\nลงทะเบียนขอรับคำปรึกษาสิทธิประโยชน์: https://docs.google.com/forms/d/e/1FAIpQLScDfR9Ar_y7CQHLer_ZkHCDQlz0fK1LU4zd3UJS3I_kZBbqjA/viewform
URL:https://thaitara.org/event/smart-industrial-safety-technology-for-advanced-maintenance/
LOCATION:Bitec Bangna\, Thailand
CATEGORIES:Event-Seminar
ATTACH;FMTTYPE=image/webp:https://thaitara.org/wp-content/uploads/2024/09/nectec26กย67.webp
END:VEVENT
BEGIN:VEVENT
DTSTART;VALUE=DATE:20240926
DTEND;VALUE=DATE:20240928
DTSTAMP:20260424T180441
CREATED:20240729T063813Z
LAST-MODIFIED:20240729T143228Z
UID:10000036-1727308800-1727481599@thaitara.org
SUMMARY:SISTAM2024
DESCRIPTION:📣 ลงทะเบียนเข้าฟังฟรี งานประชุม 3S – Smart\, Safe\, Sustainable Technology toward Tomorrow  ได้แล้ววันนี้! ครั้งแรกของงานประชุมที่ครอบคลุมทุกหัวข้อที่สำคัญของเทคโนโลยีด้านความปลอดภัยและการบำรุงรักษาอัจฉริยะของอุตสาหกรรมพร้อมรับฟังกรณีศึกษาจากบริษัทชั้นนำ ที่จะช่วยองค์กรและผู้ประกอบการ SMEs ในการหาโซลูชั่นใหม่ๆ เพื่อมุ่งสู่อุตสาหกรรมที่ปลอดภัยและยั่งยืน \n. \n📲 ลงทะเบียนเข้าชมฟัง ฟรี!: https://evcnx.co/EC \n🗓  26 – 27 กันยายน 2567 ที่ ไบเทค\, บางนา กรุงเทพฯ​ \n. \nเหตุผลที่ควรเข้าเยี่ยมชมงาน \n✅ อัพเดทเทรนด์ นวัตกรรม โซลูชั่น และเทคโลยีล่าสุดสำหรับผู้ประกอบการและ SMEs \n✅ ร่วมรับฟังกรณีศึกษา จากบริษัทชั้นนำต่างๆ \n✅ โอกาสในการสร้างเครือข่าย รับรู้ข้อมูลเชิงลึก จากเหล่าผู้เชี่ยวชาญในอุตสาหกรรม \n✅ จัดโดย คณะวิศวฯ จุฬาฯ ผนึกกำลัง 17 หน่วยงาน ภาครัฐ สถาบันและสมาคมที่เกี่ยวข้องในอุตสาหกรรม \n⏰ ด่วน! ที่นั่งมีจำนวนจำกัด \n👆ดูโปรแกรมสัมมนาเพิ่มเติม \n☎️ สอบถามเพิ่มเติม โทร: 02-559 0856-8 \n  \n#SISTAM #SISTAM2024 #sistam #smartindustrialsafety #technologyforadvancedmaintenance #maintenance #safety #technology #Factory #ChemicalEngineering #Predictive #Production #Automation #OHS #EHS #Occupational #SME #AI #Robotic #Cloud #ความปลอดภัยในอุตสาหกรรม #ความปลอดภัย #อาชีวอนามัย #สิ่งแวดล้อมและความปลอดภัย #อาชีวอนามัยและความปลอดภัย #บำรุงรักษา #บำรุงรักษาเครื่องจักร #การบำรุงรักษาเชิงแก้ไข #บำรุงเชิงคาดการณ์ #การผลิต #ระบบออโตเมชั่น #ExpoSis #ExhibitionandConference #exhibition #Conference #Seminar
URL:https://thaitara.org/event/sistam2024/
LOCATION:Bitec Bangna\, Thailand
CATEGORIES:Event-Announcement,Event-Seminar
ATTACH;FMTTYPE=image/png:https://thaitara.org/wp-content/uploads/2024/07/Sistam2024.png
END:VEVENT
BEGIN:VEVENT
DTSTART;TZID=Asia/Bangkok:20240918T100000
DTEND;TZID=Asia/Bangkok:20240920T180000
DTSTAMP:20260424T180441
CREATED:20240909T084836Z
LAST-MODIFIED:20240909T084836Z
UID:10000064-1726653600-1726855200@thaitara.org
SUMMARY:Metal Thailand 2024
DESCRIPTION:METAL THAILAND 2024 จัดแสดงอุตสาหกรรมเหล็ก 4 หัวข้อหลัก ได้แก่ การหล่อ การขึ้นรูปโลหะ การอบชุบด้วยความร้อน และการเชื่อม ผู้แสดงสินค้าจากจีนและต่างประเทศมากกว่า 200 รายจะเข้าร่วมในนิทรรศการนี้ โดยจัดแสดงเทคโนโลยีการผลิตขั้นสูง ผลิตภัณฑ์โลหะระดับไฮเอนด์ วัสดุที่เป็นมิตรต่อสิ่งแวดล้อมและสิ่งแวดล้อม ตลอดจนอุปกรณ์การผลิตอัจฉริยะและโซลูชันสำหรับอุตสาหกรรมการผลิต จุดมุ่งหมายคือการสร้างงานระดับมืออาชีพที่ครอบคลุมสำหรับห่วงโซ่อุตสาหกรรมทั้งหมดของภาคกระบวนการพื้นฐานของอุตสาหกรรมการผลิตในเอเชียตะวันออกเฉียงใต้ \nในงานยังมีกิจกรรมที่น่าสนใจ เช่น การสัมมนา การเปิดตัวผลิตภัณฑ์ การพูดคุยแลกเปลี่ยนผู้ประกอบการจีน-ไทย การประชุมการจับคู่การจัดซื้อ จะดึงดูดผู้แสดงสินค้าและผู้เยี่ยมชมจากประเทศไทยและ ประเทศเพื่อนบ้านตลอดจนภูมิภาคเอเชียตะวันออกเฉียงใต้ทั้งหมด งานดังกล่าวจะกลายเป็นงานอุตสาหกรรมที่ได้รับการคาดหวังอย่างสูงในอุตสาหกรรมโลหะในเอเชียตะวันออกเฉียงใต้ในปี 2567 \nMETAL THAILAND 2024 \nวันที่ 18-20 กันยายน 2567  \nEH 102 BITEC ไบเทค บางนา
URL:https://thaitara.org/event/metal-thailand-2024/
LOCATION:Bitec Bangna\, Thailand
CATEGORIES:Event-Exhibition
ATTACH;FMTTYPE=image/webp:https://thaitara.org/wp-content/uploads/2024/09/METALTHAILAND_2024_67b384108a_31fb73bf4b.webp
END:VEVENT
BEGIN:VEVENT
DTSTART;VALUE=DATE:20240904
DTEND;VALUE=DATE:20240907
DTSTAMP:20260424T180441
CREATED:20240816T045246Z
LAST-MODIFIED:20240816T045247Z
UID:10000054-1725408000-1725667199@thaitara.org
SUMMARY:Bangkok RHVAC & Bangkok E&E 2024
DESCRIPTION:โอกาสสุดพิเศษในรอบ 2 ปี กำลังจะกลับมาอีกครั้ง \nกับงาน Bangkok RHVAC 2024 and Bangkok E&E 2024\nงานแสดงสินค้าเครื่องปรับอากาศ เครื่องทำความเย็น เครื่องใช้ไฟฟ้า และอิเล็กทรอนิกส์\nที่รวบรวมนวัตกรรม และเทคโนโลยีใหม่ๆ ที่ตอบโจทย์คอนเซปต์ One stop solution for Net Zero Future ที่รอคุณมาสัมผัสของจริง\n.\nพร้อมพบปะผู้ประกอบการ เพื่อทำเจรจาการค้าหาซัพพลายเออร์ใหม่ๆ\nเพื่อขยายการผลิตธุรกิจของคุณภายในงาน\n.\nห้ามพลาด! สิทธิพิเศษที่จะได้รับของที่ระลึกภายในงานที่มีจำนวนจำกัด\nเพียงลงทะเบียนเป็นผู้เข้าชมงาน (Visitor) ผ่านลิงก์นี้ 🖱 https://evcnx.co/REnjm\n—————————————–.\nพบกันที่ ไบเทค บางนา\nวันเจรจาธุรกิจ (Trade Day) : 4-6 กันยายน 2567\nวันจำหน่ายปลีก (Public Day) : 7 กันยายน 2567\n.\nรายละเอียดและข้อมูลเพิ่มเติม\nWebsite : https://www.bangkok-rhvac.com/\nInbox : m.me/bangkokrhvac\nEmail : rhvac@ditp.go.th
URL:https://thaitara.org/event/bangkok-rhvac-bangkok-ee-2024/
LOCATION:Bitec Bangna\, Thailand
CATEGORIES:Event-Exhibition
ATTACH;FMTTYPE=image/webp:https://thaitara.org/wp-content/uploads/2024/08/RHAC-webp.webp
END:VEVENT
END:VCALENDAR