BEGIN:VCALENDAR
VERSION:2.0
PRODID:-//Thai TARA - ECPv6.2.9//NONSGML v1.0//EN
CALSCALE:GREGORIAN
METHOD:PUBLISH
X-WR-CALNAME:Thai TARA
X-ORIGINAL-URL:https://thaitara.org
X-WR-CALDESC:Events for Thai TARA
REFRESH-INTERVAL;VALUE=DURATION:PT1H
X-Robots-Tag:noindex
X-PUBLISHED-TTL:PT1H
BEGIN:VTIMEZONE
TZID:Asia/Bangkok
BEGIN:STANDARD
TZOFFSETFROM:+0700
TZOFFSETTO:+0700
TZNAME:+07
DTSTART:20240101T000000
END:STANDARD
END:VTIMEZONE
BEGIN:VEVENT
DTSTART;TZID=Asia/Bangkok:20241008T090000
DTEND;TZID=Asia/Bangkok:20241010T160000
DTSTAMP:20260425T205149
CREATED:20240904T053341Z
LAST-MODIFIED:20240904T053342Z
UID:10000062-1728378000-1728576000@thaitara.org
SUMMARY:Accretech PRIVATE SHOW 2024
DESCRIPTION:บริษัท โทเซอิ (ประเทศไทย) จำกัด ในเครือของ Accretech ฉลองครบรอบ 20 ปี ด้วยการเปิดบ้านต้อนรับสมาชิก TARA และลูกค้า พบกับไลน์การผลิตต้นแบบจำลอง และ หัวข้อสัมมนาที่รอคอยอย่างเต็มอิ่ม ในวันที่ 8-10 ตุลาคม 2567 (รายละเอียดหัวข้อและตารางสัมมนา ดูในภาพประกอบค่ะ)     \n  \nขอเชิญสมาชิกที่สนใจ ลงทะเบียนผ่าน QR Code ถึงวันที่ 27 กันยายน 2567 ค่ะ \n(ไปเยี่ยมบ้านสมาชิกกันเยอะ ๆ นะคะ) ^^ \n 
URL:https://thaitara.org/event/accretech-private-show-2024/
LOCATION:TOSEI Amata City Chonburi\, Chonburi\, Thailand
CATEGORIES:Event-Seminar
ATTACH;FMTTYPE=image/webp:https://thaitara.org/wp-content/uploads/2024/09/Toseipravateshow-scaled.webp
END:VEVENT
END:VCALENDAR